BEGIN:VCALENDAR
VERSION:2.0
PRODID:spatie/icalendar-generator
DESCRIPTION:Events from ellsinorefirstassembly.com
X-WR-CALDESC:Events from ellsinorefirstassembly.com
REFRESH-INTERVAL;VALUE=DURATION:PT1440M
X-PUBLISHED-TTL:PT1440M
BEGIN:VTIMEZONE
TZID:America/Chicago
BEGIN:DAYLIGHT
DTSTART:20250309T020000Z
TZOFFSETFROM:-0600
TZOFFSETTO:-0500
END:DAYLIGHT
BEGIN:STANDARD
DTSTART:20251102T020000Z
TZOFFSETFROM:-0500
TZOFFSETTO:-0600
END:STANDARD
BEGIN:DAYLIGHT
DTSTART:20260308T020000Z
TZOFFSETFROM:-0600
TZOFFSETTO:-0500
END:DAYLIGHT
END:VTIMEZONE
BEGIN:VTIMEZONE
TZID:UTC
BEGIN:STANDARD
DTSTART:20250725T112011Z
TZOFFSETFROM:+0000
TZOFFSETTO:+0000
END:STANDARD
END:VTIMEZONE
BEGIN:VEVENT
UID:1198-3
DTSTAMP:20260421T112011Z
SUMMARY:Worship
LOCATION:
ORGANIZER;CN=ellsinoreadm:MAILTO:hostadmin@chventures.com
RRULE:FREQ=WEEKLY;UNTIL=20330301T000000Z
DTSTART;TZID=America/Chicago:20251109T103000
DTEND;TZID=America/Chicago:20251109T113000
X-ALT-DESC;FMTTYPE=TEXT/HTML:
CATEGORIES:General
URL;VALUE=URI:https://ellsinorefirstassembly.com/mc-events/grandparents-day
 -celebration/?mc_id=1198
METHOD:PUBLISH
END:VEVENT
END:VCALENDAR